BEGIN:VCALENDAR
VERSION:2.0
PRODID:-//Chagrin Gateway Democrats - ECPv6.15.15//NONSGML v1.0//EN
CALSCALE:GREGORIAN
METHOD:PUBLISH
X-ORIGINAL-URL:https://www.chagringatewaydems.com
X-WR-CALDESC:Events for Chagrin Gateway Democrats
REFRESH-INTERVAL;VALUE=DURATION:PT1H
X-Robots-Tag:noindex
X-PUBLISHED-TTL:PT1H
BEGIN:VTIMEZONE
TZID:America/New_York
BEGIN:DAYLIGHT
TZOFFSETFROM:-0500
TZOFFSETTO:-0400
TZNAME:EDT
DTSTART:20210314T070000
END:DAYLIGHT
BEGIN:STANDARD
TZOFFSETFROM:-0400
TZOFFSETTO:-0500
TZNAME:EST
DTSTART:20211107T060000
END:STANDARD
BEGIN:DAYLIGHT
TZOFFSETFROM:-0500
TZOFFSETTO:-0400
TZNAME:EDT
DTSTART:20220313T070000
END:DAYLIGHT
BEGIN:STANDARD
TZOFFSETFROM:-0400
TZOFFSETTO:-0500
TZNAME:EST
DTSTART:20221106T060000
END:STANDARD
BEGIN:DAYLIGHT
TZOFFSETFROM:-0500
TZOFFSETTO:-0400
TZNAME:EDT
DTSTART:20230312T070000
END:DAYLIGHT
BEGIN:STANDARD
TZOFFSETFROM:-0400
TZOFFSETTO:-0500
TZNAME:EST
DTSTART:20231105T060000
END:STANDARD
END:VTIMEZONE
BEGIN:VEVENT
DTSTART;VALUE=DATE:20220926
DTEND;VALUE=DATE:20221003
DTSTAMP:20260421T195334
CREATED:20220927T015425Z
LAST-MODIFIED:20220927T015639Z
UID:1364-1664150400-1664755199@www.chagringatewaydems.com
SUMMARY:Volunteer - September 26-October 2
DESCRIPTION:Loading…
URL:https://www.chagringatewaydems.com/event/volunteer-september-26-october-2/
LOCATION:OH
CATEGORIES:Canvassing,Lit Drop,Phone Calls,Postcards,Visibility,Volunteering,Voter Registration
ATTACH;FMTTYPE=image/jpeg:https://www.chagringatewaydems.com/wp-content/uploads/2020/10/eventvolunteercalls-e1661212417933.jpg
ORGANIZER;CN="Chagrin Gateway Democrats":MAILTO:info@chagringatewaydems.com
END:VEVENT
BEGIN:VEVENT
DTSTART;TZID=America/New_York:20221002T110000
DTEND;TZID=America/New_York:20221002T130000
DTSTAMP:20260421T195334
CREATED:20220913T222126Z
LAST-MODIFIED:20220913T223555Z
UID:1336-1664708400-1664715600@www.chagringatewaydems.com
SUMMARY:Canvassing for the Democratic Ticket
DESCRIPTION:Join us as we talk to likely Democratic voters and provide them with information on the Democratic ticket. One shift at 11am. RSVP by email to info@chagringatewaydems.com and we’ll provide additional details.
URL:https://www.chagringatewaydems.com/event/canvassing-for-the-democratic-ticket-2/
LOCATION:Chagrin Falls Outpost\, 61 Olive St.\, Chagrin Falls\, OH\, 44022\, United States
CATEGORIES:Canvassing,Volunteering
ATTACH;FMTTYPE=image/png:https://www.chagringatewaydems.com/wp-content/uploads/2022/09/event-canvassing.png
ORGANIZER;CN="Chagrin Gateway Democrats":MAILTO:info@chagringatewaydems.com
END:VEVENT
END:VCALENDAR