BEGIN:VCALENDAR
VERSION:2.0
PRODID:-//Chagrin Gateway Democrats - ECPv6.15.15//NONSGML v1.0//EN
CALSCALE:GREGORIAN
METHOD:PUBLISH
X-WR-CALNAME:Chagrin Gateway Democrats
X-ORIGINAL-URL:https://www.chagringatewaydems.com
X-WR-CALDESC:Events for Chagrin Gateway Democrats
REFRESH-INTERVAL;VALUE=DURATION:PT1H
X-Robots-Tag:noindex
X-PUBLISHED-TTL:PT1H
BEGIN:VTIMEZONE
TZID:America/New_York
BEGIN:DAYLIGHT
TZOFFSETFROM:-0500
TZOFFSETTO:-0400
TZNAME:EDT
DTSTART:20230312T070000
END:DAYLIGHT
BEGIN:STANDARD
TZOFFSETFROM:-0400
TZOFFSETTO:-0500
TZNAME:EST
DTSTART:20231105T060000
END:STANDARD
BEGIN:DAYLIGHT
TZOFFSETFROM:-0500
TZOFFSETTO:-0400
TZNAME:EDT
DTSTART:20240310T070000
END:DAYLIGHT
BEGIN:STANDARD
TZOFFSETFROM:-0400
TZOFFSETTO:-0500
TZNAME:EST
DTSTART:20241103T060000
END:STANDARD
BEGIN:DAYLIGHT
TZOFFSETFROM:-0500
TZOFFSETTO:-0400
TZNAME:EDT
DTSTART:20250309T070000
END:DAYLIGHT
BEGIN:STANDARD
TZOFFSETFROM:-0400
TZOFFSETTO:-0500
TZNAME:EST
DTSTART:20251102T060000
END:STANDARD
END:VTIMEZONE
BEGIN:VEVENT
DTSTART;TZID=America/New_York:20240720T100000
DTEND;TZID=America/New_York:20240720T130000
DTSTAMP:20260421T211446
CREATED:20240628T205730Z
LAST-MODIFIED:20240628T205730Z
UID:1987-1721469600-1721480400@www.chagringatewaydems.com
SUMMARY:Coordinated Canvass
DESCRIPTION:Join us for a coordinated canvass for Sherrod Brown\, Joe Biden and the entire Democratic ticket. To RSVP\, please email info@chagringatewaydems.com. Saturday\, July 20\, 10AM at Morgan Park (corner of Pinetree and Lander Circle at Chagrin Blvd.) in Pepper Pike.
URL:https://www.chagringatewaydems.com/event/coordinated-canvass/
LOCATION:Morgan Park\, 30550 Pinetree Rd\, Pepper Pike\, OH\, 44124\, United States
CATEGORIES:Canvassing,Volunteering
ATTACH;FMTTYPE=image/png:https://www.chagringatewaydems.com/wp-content/uploads/2022/09/event-canvassing.png
ORGANIZER;CN="Chagrin Gateway Democrats":MAILTO:info@chagringatewaydems.com
END:VEVENT
BEGIN:VEVENT
DTSTART;TZID=America/New_York:20240728T130000
DTEND;TZID=America/New_York:20240728T160000
DTSTAMP:20260421T211446
CREATED:20240628T210000Z
LAST-MODIFIED:20240728T000335Z
UID:1989-1722171600-1722182400@www.chagringatewaydems.com
SUMMARY:Coordinated Canvass
DESCRIPTION:Join us for a coordinated canvass for Sherrod Brown\, Kamala Harris and the entire Democratic ticket. To RSVP\, please email info@chagringatewaydems.com. Sunday\, July 28\, 1PM at Morgan Park (corner of Pinetree and Lander Circle at Chagrin Blvd.) in Pepper Pike.
URL:https://www.chagringatewaydems.com/event/coordinated-canvass-2/
LOCATION:Morgan Park\, 30550 Pinetree Rd\, Pepper Pike\, OH\, 44124\, United States
CATEGORIES:Canvassing,Volunteering
ATTACH;FMTTYPE=image/png:https://www.chagringatewaydems.com/wp-content/uploads/2022/09/event-canvassing.png
ORGANIZER;CN="Chagrin Gateway Democrats":MAILTO:info@chagringatewaydems.com
END:VEVENT
END:VCALENDAR