BEGIN:VCALENDAR
VERSION:2.0
PRODID:-//Chagrin Gateway Democrats - ECPv6.15.15//NONSGML v1.0//EN
CALSCALE:GREGORIAN
METHOD:PUBLISH
X-ORIGINAL-URL:https://www.chagringatewaydems.com
X-WR-CALDESC:Events for Chagrin Gateway Democrats
REFRESH-INTERVAL;VALUE=DURATION:PT1H
X-Robots-Tag:noindex
X-PUBLISHED-TTL:PT1H
BEGIN:VTIMEZONE
TZID:America/New_York
BEGIN:DAYLIGHT
TZOFFSETFROM:-0500
TZOFFSETTO:-0400
TZNAME:EDT
DTSTART:20220313T070000
END:DAYLIGHT
BEGIN:STANDARD
TZOFFSETFROM:-0400
TZOFFSETTO:-0500
TZNAME:EST
DTSTART:20221106T060000
END:STANDARD
BEGIN:DAYLIGHT
TZOFFSETFROM:-0500
TZOFFSETTO:-0400
TZNAME:EDT
DTSTART:20230312T070000
END:DAYLIGHT
BEGIN:STANDARD
TZOFFSETFROM:-0400
TZOFFSETTO:-0500
TZNAME:EST
DTSTART:20231105T060000
END:STANDARD
BEGIN:DAYLIGHT
TZOFFSETFROM:-0500
TZOFFSETTO:-0400
TZNAME:EDT
DTSTART:20240310T070000
END:DAYLIGHT
BEGIN:STANDARD
TZOFFSETFROM:-0400
TZOFFSETTO:-0500
TZNAME:EST
DTSTART:20241103T060000
END:STANDARD
END:VTIMEZONE
BEGIN:VEVENT
DTSTART;VALUE=DATE:20231104
DTEND;VALUE=DATE:20231106
DTSTAMP:20260421T181958
CREATED:20231022T184931Z
LAST-MODIFIED:20231022T184931Z
UID:1814-1699056000-1699228799@www.chagringatewaydems.com
SUMMARY:GOTV Weekend
DESCRIPTION:Carry “Get Out the Vote” (GOTV) materials to get Issue 1 over the top and turn out voters for the November 7 election. Walk packs will be available for pickup in Orange and Chagrin Falls. Packs will be for walkable areas with higher concentration of likely Dem voters. Sign up here.
URL:https://www.chagringatewaydems.com/event/gotv-weekend/
LOCATION:Your Neighborhood
CATEGORIES:Canvassing,Lit Drop,Volunteering
ATTACH;FMTTYPE=image/png:https://www.chagringatewaydems.com/wp-content/uploads/2022/09/event-canvassing.png
ORGANIZER;CN="Chagrin Gateway Democrats":MAILTO:info@chagringatewaydems.com
END:VEVENT
END:VCALENDAR