BEGIN:VCALENDAR
VERSION:2.0
PRODID:-//Chagrin Gateway Democrats - ECPv6.15.15//NONSGML v1.0//EN
CALSCALE:GREGORIAN
METHOD:PUBLISH
X-ORIGINAL-URL:https://www.chagringatewaydems.com
X-WR-CALDESC:Events for Chagrin Gateway Democrats
REFRESH-INTERVAL;VALUE=DURATION:PT1H
X-Robots-Tag:noindex
X-PUBLISHED-TTL:PT1H
BEGIN:VTIMEZONE
TZID:America/New_York
BEGIN:DAYLIGHT
TZOFFSETFROM:-0500
TZOFFSETTO:-0400
TZNAME:EDT
DTSTART:20220313T070000
END:DAYLIGHT
BEGIN:STANDARD
TZOFFSETFROM:-0400
TZOFFSETTO:-0500
TZNAME:EST
DTSTART:20221106T060000
END:STANDARD
BEGIN:DAYLIGHT
TZOFFSETFROM:-0500
TZOFFSETTO:-0400
TZNAME:EDT
DTSTART:20230312T070000
END:DAYLIGHT
BEGIN:STANDARD
TZOFFSETFROM:-0400
TZOFFSETTO:-0500
TZNAME:EST
DTSTART:20231105T060000
END:STANDARD
BEGIN:DAYLIGHT
TZOFFSETFROM:-0500
TZOFFSETTO:-0400
TZNAME:EDT
DTSTART:20240310T070000
END:DAYLIGHT
BEGIN:STANDARD
TZOFFSETFROM:-0400
TZOFFSETTO:-0500
TZNAME:EST
DTSTART:20241103T060000
END:STANDARD
END:VTIMEZONE
BEGIN:VEVENT
DTSTART;TZID=America/New_York:20230805T100000
DTEND;TZID=America/New_York:20230805T130000
DTSTAMP:20260421T145756
CREATED:20230730T150100Z
LAST-MODIFIED:20230730T150100Z
UID:1758-1691229600-1691240400@www.chagringatewaydems.com
SUMMARY:NO on Issue 1 GOTV Canvassing
DESCRIPTION:As we head into the final week of the campaign to defeat Issue 1\, our efforts pivot to GOTV canvassing and visibility. We are planning a large canvassing for Saturday\, August 5 and need your help. If you can walk Saturday or Sunday\, please sign up for a shift. Please indicate if you prefer to walk your block/neighborhood or wish to be assigned to another area. Canvassing packs will be available Saturday at Morgan Park from 10am-1pm and at Chagrin Falls and Orange locations later that day if you can’t make the morning pickup spot. \nTo make this effort a success\, we need at least 20 canvassers/teams. If you’ve never canvassed before\, this is a great time to start. Lists and maps will be targeting likely supporters and your only mission is to remind voters that there is an election on Tuesday and answer questions if they have any. \nSign up for a canvass shift and let’s bring it home!
URL:https://www.chagringatewaydems.com/event/no-on-issue-1-gotv-canvassing/
LOCATION:Morgan Park\, 30550 Pinetree Rd\, Pepper Pike\, OH\, 44124\, United States
CATEGORIES:Canvassing,Volunteering
ATTACH;FMTTYPE=image/png:https://www.chagringatewaydems.com/wp-content/uploads/2022/09/event-canvassing.png
ORGANIZER;CN="Chagrin Gateway Democrats":MAILTO:info@chagringatewaydems.com
END:VEVENT
END:VCALENDAR