BEGIN:VCALENDAR
VERSION:2.0
PRODID:-//Chagrin Gateway Democrats - ECPv6.15.15//NONSGML v1.0//EN
CALSCALE:GREGORIAN
METHOD:PUBLISH
X-WR-CALNAME:Chagrin Gateway Democrats
X-ORIGINAL-URL:https://www.chagringatewaydems.com
X-WR-CALDESC:Events for Chagrin Gateway Democrats
REFRESH-INTERVAL;VALUE=DURATION:PT1H
X-Robots-Tag:noindex
X-PUBLISHED-TTL:PT1H
BEGIN:VTIMEZONE
TZID:America/New_York
BEGIN:DAYLIGHT
TZOFFSETFROM:-0500
TZOFFSETTO:-0400
TZNAME:EDT
DTSTART:20210314T070000
END:DAYLIGHT
BEGIN:STANDARD
TZOFFSETFROM:-0400
TZOFFSETTO:-0500
TZNAME:EST
DTSTART:20211107T060000
END:STANDARD
BEGIN:DAYLIGHT
TZOFFSETFROM:-0500
TZOFFSETTO:-0400
TZNAME:EDT
DTSTART:20220313T070000
END:DAYLIGHT
BEGIN:STANDARD
TZOFFSETFROM:-0400
TZOFFSETTO:-0500
TZNAME:EST
DTSTART:20221106T060000
END:STANDARD
BEGIN:DAYLIGHT
TZOFFSETFROM:-0500
TZOFFSETTO:-0400
TZNAME:EDT
DTSTART:20230312T070000
END:DAYLIGHT
BEGIN:STANDARD
TZOFFSETFROM:-0400
TZOFFSETTO:-0500
TZNAME:EST
DTSTART:20231105T060000
END:STANDARD
END:VTIMEZONE
BEGIN:VEVENT
DTSTART;VALUE=DATE:20220926
DTEND;VALUE=DATE:20221003
DTSTAMP:20260421T180757
CREATED:20220927T015425Z
LAST-MODIFIED:20220927T015639Z
UID:1364-1664150400-1664755199@www.chagringatewaydems.com
SUMMARY:Volunteer - September 26-October 2
DESCRIPTION:Loading…
URL:https://www.chagringatewaydems.com/event/volunteer-september-26-october-2/
LOCATION:OH
CATEGORIES:Canvassing,Lit Drop,Phone Calls,Postcards,Visibility,Volunteering,Voter Registration
ATTACH;FMTTYPE=image/jpeg:https://www.chagringatewaydems.com/wp-content/uploads/2020/10/eventvolunteercalls-e1661212417933.jpg
ORGANIZER;CN="Chagrin Gateway Democrats":MAILTO:info@chagringatewaydems.com
END:VEVENT
BEGIN:VEVENT
DTSTART;TZID=America/New_York:20221001T100000
DTEND;TZID=America/New_York:20221001T130000
DTSTAMP:20260421T180757
CREATED:20220913T223258Z
LAST-MODIFIED:20220913T223357Z
UID:1348-1664618400-1664629200@www.chagringatewaydems.com
SUMMARY:Canvassing for the Democratic Ticket
DESCRIPTION:Join us as we talk to likely Democratic voters and provide them with information on the Democratic ticket. One shift at 10am. RSVP by email to info@chagringatewaydems.com and we’ll provide additional details.
URL:https://www.chagringatewaydems.com/event/canvassing-for-the-democratic-ticket-6/
LOCATION:Morgan Park\, 30550 Pinetree Rd\, Pepper Pike\, OH\, 44124\, United States
CATEGORIES:Canvassing,Volunteering
ATTACH;FMTTYPE=image/png:https://www.chagringatewaydems.com/wp-content/uploads/2022/09/event-canvassing.png
ORGANIZER;CN="Chagrin Gateway Democrats":MAILTO:info@chagringatewaydems.com
END:VEVENT
BEGIN:VEVENT
DTSTART;TZID=America/New_York:20221002T110000
DTEND;TZID=America/New_York:20221002T130000
DTSTAMP:20260421T180757
CREATED:20220913T222126Z
LAST-MODIFIED:20220913T223555Z
UID:1336-1664708400-1664715600@www.chagringatewaydems.com
SUMMARY:Canvassing for the Democratic Ticket
DESCRIPTION:Join us as we talk to likely Democratic voters and provide them with information on the Democratic ticket. One shift at 11am. RSVP by email to info@chagringatewaydems.com and we’ll provide additional details.
URL:https://www.chagringatewaydems.com/event/canvassing-for-the-democratic-ticket-2/
LOCATION:Chagrin Falls Outpost\, 61 Olive St.\, Chagrin Falls\, OH\, 44022\, United States
CATEGORIES:Canvassing,Volunteering
ATTACH;FMTTYPE=image/png:https://www.chagringatewaydems.com/wp-content/uploads/2022/09/event-canvassing.png
ORGANIZER;CN="Chagrin Gateway Democrats":MAILTO:info@chagringatewaydems.com
END:VEVENT
BEGIN:VEVENT
DTSTART;VALUE=DATE:20221003
DTEND;VALUE=DATE:20221010
DTSTAMP:20260421T180757
CREATED:20221002T164918Z
LAST-MODIFIED:20221002T165002Z
UID:1367-1664755200-1665359999@www.chagringatewaydems.com
SUMMARY:Volunteer – October 3-9
DESCRIPTION:Loading…
URL:https://www.chagringatewaydems.com/event/volunteer-october-3-9/
LOCATION:OH
CATEGORIES:Canvassing,Lit Drop,Phone Calls,Postcards,Visibility,Volunteering,Voter Registration
ATTACH;FMTTYPE=image/jpeg:https://www.chagringatewaydems.com/wp-content/uploads/2020/10/eventvolunteercalls-e1661212417933.jpg
ORGANIZER;CN="Chagrin Gateway Democrats":MAILTO:info@chagringatewaydems.com
END:VEVENT
BEGIN:VEVENT
DTSTART;VALUE=DATE:20221010
DTEND;VALUE=DATE:20221017
DTSTAMP:20260421T180757
CREATED:20221009T142835Z
LAST-MODIFIED:20221009T144125Z
UID:1385-1665360000-1665964799@www.chagringatewaydems.com
SUMMARY:Volunteer – October 10-16
DESCRIPTION:Loading…
URL:https://www.chagringatewaydems.com/event/volunteer-october-10-16/
LOCATION:OH
CATEGORIES:Canvassing,Lit Drop,Phone Calls,Postcards,Visibility,Voter Registration
ATTACH;FMTTYPE=image/jpeg:https://www.chagringatewaydems.com/wp-content/uploads/2020/10/eventvolunteercalls-e1661212417933.jpg
ORGANIZER;CN="Chagrin Gateway Democrats":MAILTO:info@chagringatewaydems.com
END:VEVENT
BEGIN:VEVENT
DTSTART;TZID=America/New_York:20221015T100000
DTEND;TZID=America/New_York:20221015T130000
DTSTAMP:20260421T180757
CREATED:20220913T223511Z
LAST-MODIFIED:20220913T223511Z
UID:1351-1665828000-1665838800@www.chagringatewaydems.com
SUMMARY:Canvassing for the Democratic Ticket
DESCRIPTION:Join us as we talk to likely Democratic voters and provide them with information on the Democratic ticket. One shift at 10am. RSVP by email to info@chagringatewaydems.com and we’ll provide additional details.
URL:https://www.chagringatewaydems.com/event/canvassing-for-the-democratic-ticket-7/
LOCATION:Morgan Park\, 30550 Pinetree Rd\, Pepper Pike\, OH\, 44124\, United States
CATEGORIES:Canvassing,Volunteering
ATTACH;FMTTYPE=image/png:https://www.chagringatewaydems.com/wp-content/uploads/2022/09/event-canvassing.png
ORGANIZER;CN="Chagrin Gateway Democrats":MAILTO:info@chagringatewaydems.com
END:VEVENT
BEGIN:VEVENT
DTSTART;VALUE=DATE:20221017
DTEND;VALUE=DATE:20221024
DTSTAMP:20260421T180757
CREATED:20221017T024500Z
LAST-MODIFIED:20221017T024627Z
UID:1443-1665964800-1666569599@www.chagringatewaydems.com
SUMMARY:Volunteering - Oct. 17-23
DESCRIPTION:Loading…
URL:https://www.chagringatewaydems.com/event/volunteering-oct-17-23/
LOCATION:OH
CATEGORIES:Canvassing,Lit Drop,Postcards,Visibility,Volunteering
ATTACH;FMTTYPE=image/jpeg:https://www.chagringatewaydems.com/wp-content/uploads/2020/10/eventvolunteercalls-e1661212417933.jpg
ORGANIZER;CN="Chagrin Gateway Democrats":MAILTO:info@chagringatewaydems.com
END:VEVENT
BEGIN:VEVENT
DTSTART;TZID=America/New_York:20221022T100000
DTEND;TZID=America/New_York:20221022T150000
DTSTAMP:20260421T180757
CREATED:20220913T222308Z
LAST-MODIFIED:20220913T222308Z
UID:1338-1666432800-1666450800@www.chagringatewaydems.com
SUMMARY:Canvassing for the Democratic Ticket
DESCRIPTION:Join us as we talk to likely Democratic voters and provide them with information on the Democratic ticket. Two shifts at 10am and 1pm. RSVP by email to info@chagringatewaydems.com and we’ll provide additional details.
URL:https://www.chagringatewaydems.com/event/canvassing-for-the-democratic-ticket-3/
LOCATION:Chagrin Falls Outpost\, 61 Olive St.\, Chagrin Falls\, OH\, 44022\, United States
CATEGORIES:Canvassing,Volunteering
ATTACH;FMTTYPE=image/png:https://www.chagringatewaydems.com/wp-content/uploads/2022/09/event-canvassing.png
ORGANIZER;CN="Chagrin Gateway Democrats":MAILTO:info@chagringatewaydems.com
END:VEVENT
BEGIN:VEVENT
DTSTART;TZID=America/New_York:20221023T110000
DTEND;TZID=America/New_York:20221023T130000
DTSTAMP:20260421T180757
CREATED:20220913T222457Z
LAST-MODIFIED:20220913T222457Z
UID:1341-1666522800-1666530000@www.chagringatewaydems.com
SUMMARY:Canvassing for the Democratic Ticket
DESCRIPTION:Join us as we talk to likely Democratic voters and provide them with information on the Democratic ticket. One shift at 11am. RSVP by email to info@chagringatewaydems.com and we’ll provide additional details.
URL:https://www.chagringatewaydems.com/event/canvassing-for-the-democratic-ticket-4/
LOCATION:Chagrin Falls Outpost\, 61 Olive St.\, Chagrin Falls\, OH\, 44022\, United States
CATEGORIES:Canvassing,Visibility
ATTACH;FMTTYPE=image/png:https://www.chagringatewaydems.com/wp-content/uploads/2022/09/event-canvassing.png
ORGANIZER;CN="Chagrin Gateway Democrats":MAILTO:info@chagringatewaydems.com
END:VEVENT
BEGIN:VEVENT
DTSTART;VALUE=DATE:20221024
DTEND;VALUE=DATE:20221031
DTSTAMP:20260421T180757
CREATED:20221023T211702Z
LAST-MODIFIED:20221023T211733Z
UID:1451-1666569600-1667174399@www.chagringatewaydems.com
SUMMARY:Volunteering - October 24-30
DESCRIPTION:Loading…
URL:https://www.chagringatewaydems.com/event/volunteering-october-24-30/
LOCATION:OH
CATEGORIES:Canvassing,Postcards,Social Event,Speaker,Town Hall,Visibility,Volunteering
ATTACH;FMTTYPE=image/jpeg:https://www.chagringatewaydems.com/wp-content/uploads/2020/10/eventvolunteercalls-e1661212417933.jpg
ORGANIZER;CN="Chagrin Gateway Democrats":MAILTO:info@chagringatewaydems.com
END:VEVENT
END:VCALENDAR